BEGIN:VCALENDAR
VERSION:2.0
PRODID:-//ChamberMaster//Event Calendar 2.0//EN
METHOD:PUBLISH
X-PUBLISHED-TTL:P3D
REFRESH-INTERVAL:P3D
CALSCALE:GREGORIAN
BEGIN:VEVENT
DTSTART:20191026T160000Z
DTEND:20191026T213000Z
X-MICROSOFT-CDO-ALLDAYEVENT:FALSE
SUMMARY:16th Annual Classic Car Show- Westgate
DESCRIPTION:16th Annual Classic Car Show featuring Oasis Radio 95.1 94.9. Visit Vendors! Stop by the Damsel In Defense booth and view the many products and ways that you can stay safe\, whether you're a stay at home mom\, a college student\, grandparent or child. Trunk or treating starts at 11 AM. Prizes for costume contest for kids and adults.  Live music\, raffles and more!
X-ALT-DESC;FMTTYPE=text/html:16th Annual Classic Car Show featuring Oasis Radio 95.1 94.9. Visit Vendors! Stop by the Damsel In Defense booth and view the many products and ways that you can stay safe\, whether you&rsquo\;re a stay at home mom\, a college student\, grandparent or child. Trunk or treating starts at 11 AM. Prizes for costume contest for kids and adults. &nbsp\;Live music\, raffles and more!&nbsp\;
LOCATION:Westgate parking lot near the AMC theater
UID:e.3360.861
SEQUENCE:3
DTSTAMP:20260421T125735Z
URL:https://business.swvcc.org/events/details/16th-annual-classic-car-show-westgate-861
END:VEVENT

END:VCALENDAR
