BEGIN:VCALENDAR
VERSION:2.0
PRODID:-//ChamberMaster//Event Calendar 2.0//EN
METHOD:PUBLISH
X-PUBLISHED-TTL:P3D
REFRESH-INTERVAL:P3D
CALSCALE:GREGORIAN
BEGIN:VEVENT
DTSTART:20191005T183000Z
DTEND:20191005T224000Z
X-MICROSOFT-CDO-ALLDAYEVENT:FALSE
SUMMARY:2019 Air Force-Navy Football Game Party
DESCRIPTION:2019 Air Force-Navy Football Game Party
X-ALT-DESC;FMTTYPE=text/html:<em><strong><span style="font-family:arial\,sans-serif\;"><span style="font-size:16.5pt\;">2019 Air Force-Navy Football Game Party</span></span></strong></em>
LOCATION:BJ's Brewhouse (Desert Ridge) 21001 N Tatum Blvd\, Phoenix\, AZ 85050
UID:e.3360.857
SEQUENCE:3
DTSTAMP:20260421T125956Z
URL:https://business.swvcc.org/events/details/2019-air-force-navy-football-game-party-857
END:VEVENT

END:VCALENDAR
