BEGIN:VCALENDAR
VERSION:2.0
PRODID:-//ChamberMaster//Event Calendar 2.0//EN
METHOD:PUBLISH
X-PUBLISHED-TTL:P3D
REFRESH-INTERVAL:P3D
CALSCALE:GREGORIAN
BEGIN:VEVENT
DTSTART:20191019T213000Z
DTEND:20191020T003000Z
X-MICROSOFT-CDO-ALLDAYEVENT:FALSE
SUMMARY:2019 Fall Festival at Westwing Mountain
DESCRIPTION:Come out and bring the whole family for a fun afternoon! Hot dogs\, kettle corn\, costume contest\, pumpkin patch\, pony carousel\, face painting\, bounce houses\, rock climbing wall\, and many vendor booths! Stop by the Damsel In Defense booth and let us show you how to stay safe! \n\n\n\nFree event. Seating is limited. Bring a chair or blanket.
X-ALT-DESC;FMTTYPE=text/html:Come out and bring the whole family for a fun afternoon! Hot dogs\, kettle corn\, costume contest\, pumpkin patch\, pony carousel\, face painting\, bounce houses\, rock climbing wall\, and many vendor booths! Stop by the Damsel In Defense booth and let us show you how to stay safe!&nbsp\;<br />\n<br />\nFree event. Seating is limited. Bring a chair or blanket.&nbsp\;
LOCATION:27100 West Wing Pkwy\, Peoria Parking available at the Copper Hills Church parking lot
UID:e.3360.864
SEQUENCE:3
DTSTAMP:20260421T125752Z
URL:https://business.swvcc.org/events/details/2019-fall-festival-at-westwing-mountain-864
END:VEVENT

END:VCALENDAR
