BEGIN:VCALENDAR
VERSION:2.0
PRODID:-//ChamberMaster//Event Calendar 2.0//EN
METHOD:PUBLISH
X-PUBLISHED-TTL:P3D
REFRESH-INTERVAL:P3D
CALSCALE:GREGORIAN
BEGIN:VEVENT
DTSTART:20200514T220000Z
DTEND:20200514T230000Z
X-MICROSOFT-CDO-ALLDAYEVENT:FALSE
SUMMARY:Alternative Interventions That Work - Virtural Meeting
DESCRIPTION:Alternative Interventions That Work\n\nSince all Veterans are different\, so are their cases. Often what works for          one Veteran is not successful with others. Learn about the role that horses and the ocean can play in the path to success for many Veterans.
X-ALT-DESC;FMTTYPE=text/html:<em><strong><span style="font-size:20px\;"><span style="font-family:arial\;">Alternative Interventions That Work</span></span></strong></em><br />\n<span style="color:black\;"><span style="font-family:verdana\,sans-serif\;"><span style="font-size:12.0pt\;">Since all Veterans are different\, so are their cases. Often what works for&nbsp\; &nbsp\; &nbsp\; &nbsp\; &nbsp\; one Veteran is not successful with others. Learn about the role that horses and the ocean can play in the path to success for many Veterans.</span></span></span><br />\n&nbsp\;
LOCATION:Join Zoom Meeting https://zoom.us/j/94373987704?pwd=ZEgweXZaK01xRUdlK3JSSUR5MGtNZz09 Meeting ID: 943 7398 7704 Password: Veteran By Phone +1 669 900 9128 US +1 253 215 8782 US +1 346 248 7799 US +1 646 558 8656 US +1 312 626 6799 US Meeting ID: 943 7398 7704 Password: 749254
UID:e.3360.1317
SEQUENCE:3
DTSTAMP:20260424T061348Z
URL:https://business.swvcc.org/events/details/alternative-interventions-that-work-virtural-meeting-1317
END:VEVENT

END:VCALENDAR
