BEGIN:VCALENDAR
VERSION:2.0
PRODID:-//ChamberMaster//Event Calendar 2.0//EN
METHOD:PUBLISH
X-PUBLISHED-TTL:P3D
REFRESH-INTERVAL:P3D
CALSCALE:GREGORIAN
BEGIN:VEVENT
DTSTART:20191018T160000Z
DTEND:20191019T010000Z
X-MICROSOFT-CDO-ALLDAYEVENT:FALSE
SUMMARY:Backfit Health + Spine Fall Festival
DESCRIPTION:Food\, music\, vendors\, and entertainment will be available for the whole family! Raffle tickets sold for chance to win one of the amazing prizes including a grand prize! All proceeds benefit the Phoenix Children's Hospital Foundation. Be sure to stop by and visit the Damsel In Defense booth and check out our awesome safety products\, for women\, children\, men\, and students of all ages!
X-ALT-DESC;FMTTYPE=text/html:Food\, music\, vendors\, and entertainment will be available for the whole family! Raffle tickets sold for chance to win one of the amazing prizes including a grand prize! All proceeds benefit the Phoenix Children&rsquo\;s Hospital Foundation. Be sure to stop by and visit the Damsel In Defense booth and check out our awesome safety products\, for women\, children\, men\, and students of all ages!
LOCATION:BackFit Health + Spine Phoenix 2836 E Indian School Rd Suite A8 Phoenix\, AZ 85016
UID:e.3360.860
SEQUENCE:3
DTSTAMP:20260421T125936Z
URL:https://business.swvcc.org/events/details/backfit-health-spine-fall-festival-860
END:VEVENT

END:VCALENDAR
