BEGIN:VCALENDAR
VERSION:2.0
PRODID:-//ChamberMaster//Event Calendar 2.0//EN
METHOD:PUBLISH
X-PUBLISHED-TTL:P3D
REFRESH-INTERVAL:P3D
CALSCALE:GREGORIAN
BEGIN:VEVENT
DTSTART:20190903T183000Z
DTEND:20190903T200000Z
X-MICROSOFT-CDO-ALLDAYEVENT:FALSE
SUMMARY:East Valley Networking Luncheon at Floridino’s
DESCRIPTION:Network and Grow Your Business Over Lunch ...\n\nAt the Southwest Veterans Chamber of Commerce\, you gain access to an exceptionally rewarding community full of networking opportunities\, rich education\, and professional business collaboration.\n\n\n\nThis luncheon is NOT industry specific. This event is open to all SWVCC members   and to guests\, who are welcome to "check us out" before deciding to commit.  Veterans and Patriots are invited.
X-ALT-DESC;FMTTYPE=text/html:<span style="font-size:14px\;"><span style="font-family:arial\;"><strong><span style="font-size:16px\;">Network and Grow Your Business Over Lunch ...</span></strong><br />\nAt the Southwest Veterans Chamber of Commerce\, you gain access to an exceptionally rewarding community full of networking opportunities\, rich education\, and professional business collaboration.</span></span><br />\n<br />\nThis luncheon is NOT industry specific. This event is open to all SWVCC members &ndash\; and to guests\, who are welcome to &quot\;check us out&quot\; before deciding to commit.&nbsp\; <em><strong><span style="font-size:14px\;"><span style="font-family:arial\;">Veterans and Patriots are invited.</span></span></strong></em><br />\n&nbsp\;
LOCATION:Floridino's Restaurant 590 Alma School Rd. Chandler\, AZ 85224
UID:e.3360.477
SEQUENCE:3
DTSTAMP:20260422T073906Z
URL:https://business.swvcc.org/events/details/east-valley-networking-luncheon-at-floridino-s-477
END:VEVENT

END:VCALENDAR
