BEGIN:VCALENDAR
VERSION:2.0
PRODID:-//ChamberMaster//Event Calendar 2.0//EN
METHOD:PUBLISH
X-PUBLISHED-TTL:P3D
REFRESH-INTERVAL:P3D
CALSCALE:GREGORIAN
BEGIN:VEVENT
DTSTART:20211130T183000Z
DTEND:20211130T200000Z
X-MICROSOFT-CDO-ALLDAYEVENT:FALSE
SUMMARY:Get The Most Out Of Your Membership
DESCRIPTION:Know Your Southwest Veterans Community\n\nGet Acquainted\, Get Informed\, Get Involved\n \n\nJoin us to meet and network with prospective and members to learn about membership resources\, and discover ways to increase the visibility of your business.\n\n \n11:30AM - 1:00PM\n\n\n\nFloridino's Restrurant\n\n590 Alma School Rd.\n\nChandler\, AZ 85224\n\n\n\nTo speed up check-in at the restaurant please pre-register!
X-ALT-DESC;FMTTYPE=text/html:<div style="text-align: center\;"><strong><em><span style="font-size:24px\;"><span style="font-family:arial\;">Know Your Southwest Veterans Community</span></span></em><br />\n<span style="font-size:20px\;"><span style="font-family:arial\;">Get Acquainted\, Get Informed\, Get Involved</span></span></strong></div>\n<span style="font-family:arial\;">&nbsp\;<br />\n<span style="font-size:18px\;">Join us to meet and network with prospective and members to learn about membership resources\, and discover ways to increase the visibility of your business</span></span><span style="font-size:18px\;">.</span><br />\n&nbsp\;\n<div style="text-align: center\;"><span style="font-size:16px\;"><span style="font-family:arial\;"><span style="font-size:18px\;"><strong>11:30AM - 1:00</strong><strong>PM</strong></span></span></span><br />\n<br />\n<span style="font-size:18px\;"><span style="color:#000000\;"><span style="font-family:arial\;"><strong>Floridino&rsquo\;s Restrurant</strong><br />\n590 Alma School Rd.<br />\nChandler\, AZ 85224</span></span></span><br />\n<br />\n<span style="font-size:16px\;"><span style="font-family:arial\;"><em><span style="color:#008000\;"><strong><span style="font-size:18px\;">To speed up check-in at the restaurant please pre-register!</span></strong></span></em></span></span><br />\n<br />\n&nbsp\;</div>\n
LOCATION:
UID:e.3360.2030
SEQUENCE:3
DTSTAMP:20260419T173944Z
URL:https://business.swvcc.org/events/details/get-the-most-out-of-your-membership-2030
END:VEVENT

END:VCALENDAR
