BEGIN:VCALENDAR
VERSION:2.0
PRODID:-//ChamberMaster//Event Calendar 2.0//EN
METHOD:PUBLISH
X-PUBLISHED-TTL:P3D
REFRESH-INTERVAL:P3D
CALSCALE:GREGORIAN
BEGIN:VEVENT
DTSTART:20220830T183000Z
DTEND:20220830T200000Z
X-MICROSOFT-CDO-ALLDAYEVENT:FALSE
SUMMARY:Getting The Best Value from Your Membership
DESCRIPTION:Know Your Southwest Veterans Community\n\n\n\nGet Acquainted\, Get Informed\,\n\nGet Involved\n \n\nJoin us to meet and network with prospective and members to learn about membership resources\, and discover ways to increase the visibility of your business.\n\n \nTuesday Aug 30\, 2022\n\n11:30 AM - 1:00 PM\n\n\n\nMaricopa County Medical Society\n\n326 E. Coronado Rd #101 conference room\n\nPhoenix\, AZ 85004
X-ALT-DESC;FMTTYPE=text/html:<div style="text-align: center\;"><strong><em><span style="font-size:24px\;"><span style="font-family:arial\;">Know Your Southwest Veterans Community</span></span></em><br />\n<br />\n<span style="font-size:20px\;"><span style="font-family:arial\;">Get Acquainted\, Get Informed\,</span></span></strong></div>\n\n<div style="text-align: center\;"><strong><span style="font-size:20px\;"><span style="font-family:arial\;">Get Involved</span></span></strong></div>\n<span style="font-family:arial\;">&nbsp\;<br />\n<span style="font-size:18px\;">Join us to meet and network with prospective and members to learn about membership resources\, and discover ways to increase the visibility of your business</span></span><span style="font-size:18px\;">.</span><br />\n&nbsp\;\n<p><strong><span style="font-size:20px\;"><span style="font-family:arial\;"><span style="font-size:18px\;"><span content="2022-08-30T11:30:00Z" itemprop="startDate">Tuesday Aug 30\, 2022</span></span><br />\n<span class="gz-details-time"><span style="font-size:18px\;">11:30 AM - 1:00 PM</span></span></span></span></strong><br />\n<br />\n<span style="font-size:18px\;"><span style="font-family:arial\;">Maricopa County Medical Society<br />\n326 E. Coronado Rd #101 conference room<br />\nPhoenix\, AZ 85004</span></span></p>\n
LOCATION:
UID:e.3360.2141
SEQUENCE:3
DTSTAMP:20260425T214218Z
URL:https://business.swvcc.org/events/details/getting-the-best-value-from-your-membership-2141
END:VEVENT

END:VCALENDAR
