BEGIN:VCALENDAR
VERSION:2.0
PRODID:-//ChamberMaster//Event Calendar 2.0//EN
METHOD:PUBLISH
X-PUBLISHED-TTL:P3D
REFRESH-INTERVAL:P3D
CALSCALE:GREGORIAN
BEGIN:VEVENT
DTSTART:20191003T000000Z
DTEND:20191003T040000Z
X-MICROSOFT-CDO-ALLDAYEVENT:FALSE
SUMMARY:Hot Rod Nights at Westgate
DESCRIPTION:Come out to Westgate and enjoy a fun filled evening\, complete with a live band\, Hot Rod Cars\, and vendors! Older model hot rods are on the arena area while more modern cars are on the theater area. Park in the surrounding parking lot and walk the area! Damsel In Defense can be located just outside of McFadden's. Stop by and visit our table and learn how you can stay safe\, as "Your Safety is Our Business!"
X-ALT-DESC;FMTTYPE=text/html:Come out to Westgate and enjoy a fun filled evening\, complete with a live band\, Hot Rod Cars\, and vendors! Older model hot rods are on the arena area while more modern cars are on the theater area. Park in the surrounding parking lot and walk the area! Damsel In Defense can be located just outside of McFadden&rsquo\;s. Stop by and visit our table and learn how you can stay safe\, as &ldquo\;Your Safety is Our Business!&rdquo\;
LOCATION:Westgate in front of Gila River Arena
UID:e.3360.652
SEQUENCE:3
DTSTAMP:20260421T125638Z
URL:https://business.swvcc.org/events/details/hot-rod-nights-at-westgate-652
END:VEVENT

END:VCALENDAR
