BEGIN:VCALENDAR
VERSION:2.0
PRODID:-//ChamberMaster//Event Calendar 2.0//EN
METHOD:PUBLISH
X-PUBLISHED-TTL:P3D
REFRESH-INTERVAL:P3D
CALSCALE:GREGORIAN
BEGIN:VEVENT
DTSTART:20230131T220000Z
DTEND:20230131T230000Z
X-MICROSOFT-CDO-ALLDAYEVENT:FALSE
SUMMARY:How to Do Buisiness with the VA
DESCRIPTION:The VA Health Care System spent approximately $163M in procurements allocated to small businesses.  Over 50% was awarded to veteran small business companies.\n\n \n\nDo you know how to compete for this business?\n\n \n\nJoin the SWVCC and learn how.\n\n \n\nTopic: How to Do Business with the Veterans Administration\n\nTime: Jan 31\, 2023 03:00 PM Arizona\n\n \n\nJoin Zoom Meeting\n\nhttps://us06web.zoom.us/j/81923503447?pwd=NFFIWnRjeWFYWnF5T1FlV0kxb2ZRZz09\n\n \n\n \n\nMeeting ID: 819 2350 3447\n\nPasscode: 16462
X-ALT-DESC;FMTTYPE=text/html:<span style="font-size:16px\;"><span style="font-family:arial\;">The VA Health Care System spent approximately $163M in procurements allocated to small businesses.&nbsp\; Over 50% was awarded to veteran small business companies.<br />\n&nbsp\;<br />\nDo you know how to compete for this business?<br />\n&nbsp\;<br />\nJoin the SWVCC and learn how.<br />\n&nbsp\;<br />\nTopic: How to Do Business with the Veterans Administration<br />\nTime: Jan 31\, 2023 03:00 PM Arizona<br />\n&nbsp\;<br />\nJoin Zoom Meeting<br />\n<a href="https://us06web.zoom.us/j/81923503447?pwd=NFFIWnRjeWFYWnF5T1FlV0kxb2ZRZz09">https://us06web.zoom.us/j/81923503447?pwd=NFFIWnRjeWFYWnF5T1FlV0kxb2ZRZz09</a><br />\n&nbsp\;<br />\n&nbsp\;<br />\nMeeting ID: 819 2350 3447<br />\nPasscode: 16462</span></span>
LOCATION:
UID:e.3360.2694
SEQUENCE:3
DTSTAMP:20260423T195555Z
URL:https://business.swvcc.org/events/details/how-to-do-buisiness-with-the-va-2694
END:VEVENT

END:VCALENDAR
