BEGIN:VCALENDAR
VERSION:2.0
PRODID:-//ChamberMaster//Event Calendar 2.0//EN
METHOD:PUBLISH
X-PUBLISHED-TTL:P3D
REFRESH-INTERVAL:P3D
CALSCALE:GREGORIAN
BEGIN:VEVENT
DTSTART:20191030T000000Z
DTEND:20191030T030000Z
X-MICROSOFT-CDO-ALLDAYEVENT:FALSE
SUMMARY:Joint Chamber Business Mixer
DESCRIPTION:Join Chamber Business Mixer\n\nHosted by Southwest Veterans Chamber and Phoenix Metro Chambers
X-ALT-DESC;FMTTYPE=text/html:<span style="font-size:18px\;"><span style="font-family:arial\;"><strong>Join Chamber Business Mixer</strong><br />\n<span style="font-size:14px\;">Hosted by Southwest Veterans Chamber and Phoenix Metro Chambers</span></span></span>
LOCATION:Bobby Q's Restaurant 8501 N 27th Ave. Phoenix\, AZ 85051
UID:e.3360.863
SEQUENCE:3
DTSTAMP:20260421T125636Z
URL:https://business.swvcc.org/events/details/joint-chamber-business-mixer-863
END:VEVENT

END:VCALENDAR
