BEGIN:VCALENDAR
VERSION:2.0
PRODID:-//ChamberMaster//Event Calendar 2.0//EN
METHOD:PUBLISH
X-PUBLISHED-TTL:P3D
REFRESH-INTERVAL:P3D
CALSCALE:GREGORIAN
BEGIN:VEVENT
DTSTART:20241015T143000Z
DTEND:20241016T030000Z
X-MICROSOFT-CDO-ALLDAYEVENT:FALSE
SUMMARY:Morning Reveille - Gilbert
DESCRIPTION:Morning Reveille - Gilbert\n\n\n\n7:30 AM - 8:30 AM\n\n\n\nBlack Bear Diner\n\n1809 E Baseline Rd.\n\nGilbert\, AZ 85233.\n\n\n\nMany members have asked us about scheduling an early morning/breakfast event. Starting in June we are replacing our third Tuesday virtual networking with a ?Morning Reveille? at 7:30 am. For June we will have two sites: Biscuits Caf  at 19420 N. 59th Ave in Glendale (behind Zipps) and Black Bear Diner at 1809 E Baseline Rd\, Gilbert\, AZ 85233. Both venues will occur simultaneously\, and we plan to add a third site in Scottsdale in July.
X-ALT-DESC;FMTTYPE=text/html:<p><span style="font-size:18px\;"><span style="font-family:arial\;"><span style="color:#000000\;"><span style="font-size:22px\;"><strong>Morning Reveille - Gilbert</strong></span><br />\n<br />\n<em><strong>7:30 AM - 8:30 AM</strong></em><br />\n<br />\n<strong>Black Bear Diner<br />\n1809 E Baseline Rd.<br />\nGilbert\, AZ 85233.</strong><br />\n<br />\nMany members have asked us about scheduling an early morning/breakfast event. Starting in June we are replacing our third Tuesday virtual networking with a ?Morning Reveille? at 7:30 am. For June we will have two sites: Biscuits Caf&eacute\; at 19420 N. 59<sup>th</sup> Ave in Glendale (behind Zipps) and Black Bear Diner at&nbsp\;1809 E Baseline Rd\, Gilbert\, AZ 85233. Both venues will occur simultaneously\, and we plan to add a third site in Scottsdale in July. </span></span></span></p>\n
LOCATION:
UID:e.3360.2686
SEQUENCE:3
DTSTAMP:20260421T110941Z
URL:https://business.swvcc.org/events/details/morning-reveille-gilbert-10-15-2024-2686
END:VEVENT

END:VCALENDAR
