BEGIN:VCALENDAR
VERSION:2.0
PRODID:-//ChamberMaster//Event Calendar 2.0//EN
METHOD:PUBLISH
X-PUBLISHED-TTL:P3D
REFRESH-INTERVAL:P3D
CALSCALE:GREGORIAN
BEGIN:VEVENT
DTSTART:20191022T183000Z
DTEND:20191022T200000Z
X-MICROSOFT-CDO-ALLDAYEVENT:FALSE
SUMMARY:Network and Grow Your Business Over Lunch ...
DESCRIPTION:Network and Grow Your Business Over Lunch ...\n\nAt the Southwest Veterans Chamber of Commerce\, you gain access to an exceptionally rewarding community \nfull of networking opportunities\, rich education\, and professional business collaboration.\n\n\n\nThis luncheon is NOT industry specific. This event is open to all SWVCC members   and to guests\, who are welcome to "check us out" before deciding to commit.  Veterans and Patriots are invited.
X-ALT-DESC;FMTTYPE=text/html:<strong><span style="font-family:arial\,sans-serif\;">Network and Grow Your Business Over Lunch ...</span></strong><br />\n<span style="font-family:arial\,sans-serif\;"><span style="font-size:10.5pt\;">At the Southwest Veterans Chamber of Commerce\, you gain access to an exceptionally rewarding community </span></span>\n<hr align="left" size="1" width="33%" />full of networking opportunities\, rich education\, and professional business collaboration.<br />\n<br />\n<span style="font-size:14px\;"><span style="font-family:arial\;">This luncheon is NOT industry specific. This event is open to all SWVCC members &ndash\; and to guests\, who are welcome to &quot\;check us out&quot\; before deciding to commit.&nbsp\; <strong><em>Veterans and Patriots are invited.</em></strong></span></span>
LOCATION:Topgolf 6101 N. 99th Ave. Glendale\, AZ 85305
UID:e.3360.854
SEQUENCE:3
DTSTAMP:20260421T125838Z
URL:https://business.swvcc.org/events/details/network-and-grow-your-business-over-lunch-854
END:VEVENT

END:VCALENDAR
