BEGIN:VCALENDAR
VERSION:2.0
PRODID:-//ChamberMaster//Event Calendar 2.0//EN
METHOD:PUBLISH
X-PUBLISHED-TTL:P3D
REFRESH-INTERVAL:P3D
CALSCALE:GREGORIAN
BEGIN:VEVENT
DTSTART:20210511T183000Z
DTEND:20210511T200000Z
X-MICROSOFT-CDO-ALLDAYEVENT:FALSE
SUMMARY:Northwest Valley Networking Luncheon at Zipp’s
DESCRIPTION:Network and Grow Your Business Over Lunch ...\n\nAt the Southwest Veterans Chamber of Commerce\, you gain access to an exceptionally rewarding community full of networking opportunities\, rich education\, and professional business collaboration.\n\n\n\nThis luncheon is NOT industry specific. This event is open to all SWVCC members and to guests\, who are welcome to "check us out" before deciding to commit.\n\n\n\nZipps Sports Grill\n\n19420 N 59th Ave\,\n\nGlendale\, AZ 85308\n\n\n\n11:30 - 1:00
X-ALT-DESC;FMTTYPE=text/html:<strong><span style="font-family:arial\,sans-serif\;"><span style="font-size:10.5pt\;">Network and Grow Your Business Over Lunch ...</span></span></strong><br />\n<span style="font-family:arial\,sans-serif\;"><span style="font-size:10.5pt\;">At the Southwest Veterans Chamber of Commerce\, you gain access to an exceptionally rewarding community full of networking opportunities\, rich education\, and professional business collaboration.<br />\n<br />\nThis luncheon is NOT industry specific. This event is open to all SWVCC members and to guests\, who are welcome to &quot\;check us out&quot\; before deciding to commit.</span></span><br />\n<br />\n<strong><span style="font-family:arial\,sans-serif\;"><span style="font-size:10.5pt\;">Zipps Sports Grill</span></span></strong><br />\n19420 N 59th Ave\,<br />\nGlendale\, AZ 85308<br />\n<br />\n<strong><span style="color:black\;"><span style="font-family:arial\,sans-serif\;"><span style="font-size:10.5pt\;">11:30 - 1:00</span></span></span></strong>
LOCATION:
UID:e.3360.1680
SEQUENCE:3
DTSTAMP:20260424T073553Z
URL:https://business.swvcc.org/events/details/northwest-valley-networking-luncheon-at-zipp-s-05-11-2021-1680
END:VEVENT

END:VCALENDAR
