BEGIN:VCALENDAR
VERSION:2.0
PRODID:-//ChamberMaster//Event Calendar 2.0//EN
METHOD:PUBLISH
X-PUBLISHED-TTL:P3D
REFRESH-INTERVAL:P3D
CALSCALE:GREGORIAN
BEGIN:VEVENT
DTSTART:20211017T003000Z
DTEND:20211017T060000Z
X-MICROSOFT-CDO-ALLDAYEVENT:FALSE
SUMMARY:Patriots Ball
DESCRIPTION:2021 Southwest Veterans Foundation Patriots Ball\n\n\n\nDesert Heroes - A Salute to Iraq & Afghanistan Veterans\n\n\n\nPointe Hilton Tapatio Cliffs Resort\n\n11111 North 7th Street\, Phoenix\, Arizona  85020\n\n\n\n5:30pm - 11:00pm\n\n\n\nMembers $125.00\n\nNon-Member $150.00\n\n\n\nSponsorship Opportunities
X-ALT-DESC;FMTTYPE=text/html:<span style="font-size:20px\;"><strong><span style="font-family:arial\;">2021 Southwest Veterans Foundation Patriots Ball</span></strong></span><br />\n<br />\n<span style="font-size:16px\;"><strong><span style="font-family:arial\;">Desert Heroes - A Salute to Iraq &amp\; Afghanistan Veterans<br />\n<br />\nPointe Hilton Tapatio Cliffs Resort<br />\n11111 North 7th Street\, Phoenix\, Arizona&nbsp\; 85020</span></strong></span><br />\n<br />\n<strong><span style="font-size:16px\;"><span style="font-family:arial\;">5:30pm - 11:00pm<br />\n<br />\nMembers $125.00<br />\nNon-Member $150.00<br />\n<br />\n<a href="https://swvcc.org/wp-content/uploads/2019/04/SponsorForm-2019.pdf">Sponsorship Opportunities</a></span></span> </strong>
LOCATION:
UID:e.3360.1311
SEQUENCE:3
DTSTAMP:20260420T084238Z
URL:https://business.swvcc.org/events/details/patriots-ball-1311
END:VEVENT

END:VCALENDAR
