BEGIN:VCALENDAR
VERSION:2.0
PRODID:-//ChamberMaster//Event Calendar 2.0//EN
METHOD:PUBLISH
X-PUBLISHED-TTL:P3D
REFRESH-INTERVAL:P3D
CALSCALE:GREGORIAN
BEGIN:VEVENT
DTSTART:20191027T003000Z
DTEND:20191027T060000Z
X-MICROSOFT-CDO-ALLDAYEVENT:FALSE
SUMMARY:Patriots Ball
DESCRIPTION:2019 Southwest Veterans Foundation\n\nPatriots Ball
X-ALT-DESC;FMTTYPE=text/html:<strong><span style="font-size:18px\;"><span style="font-family:arial\;">2019 Southwest Veterans Foundation<br />\nPatriots Ball</span></span></strong>
LOCATION:Pointe Hilton Tapatio Cliffs Resort 11111 North 7th Street\, Phoenix\, Arizona 85020
UID:e.3360.472
SEQUENCE:3
DTSTAMP:20260421T125519Z
URL:https://business.swvcc.org/events/details/patriots-ball-472
END:VEVENT

END:VCALENDAR
