BEGIN:VCALENDAR
VERSION:2.0
PRODID:-//ChamberMaster//Event Calendar 2.0//EN
METHOD:PUBLISH
X-PUBLISHED-TTL:P3D
REFRESH-INTERVAL:P3D
CALSCALE:GREGORIAN
BEGIN:VEVENT
DTSTART:20191005T150000Z
DTEND:20191005T210000Z
X-MICROSOFT-CDO-ALLDAYEVENT:FALSE
SUMMARY:Sanderson Ford All Ford Show
DESCRIPTION:Come out to Sanderson Ford and enjoy a fun Saturday at a Car Show\, free to the public\, complete with a live band and vendors including Damsel In Defense. Stop by and visit our table and learn how you can stay safe\, as "Your Safety is Our Business!"\n\n\n\nDonate a new\, unwrapped toy or clothing item and receive free entry! You can also donate online at givetotheclaus.com.
X-ALT-DESC;FMTTYPE=text/html:Come out to Sanderson Ford and enjoy a fun Saturday at a Car Show\, free to the public\, complete with a live band and vendors including Damsel In Defense. Stop by and visit our table and learn how you can stay safe\, as &ldquo\;Your Safety is Our Business!&rdquo\;<br />\n<br />\nDonate a new\, unwrapped toy or clothing item and receive free entry! You can also donate online at givetotheclaus.com.
LOCATION:Sanderson Ford 6400 N 51st Ave Glendale\, AZ 85301
UID:e.3360.653
SEQUENCE:3
DTSTAMP:20260421T125520Z
URL:https://business.swvcc.org/events/details/sanderson-ford-all-ford-show-653
END:VEVENT

END:VCALENDAR
