BEGIN:VCALENDAR
VERSION:2.0
PRODID:-//ChamberMaster//Event Calendar 2.0//EN
METHOD:PUBLISH
X-PUBLISHED-TTL:P3D
REFRESH-INTERVAL:P3D
CALSCALE:GREGORIAN
BEGIN:VEVENT
DTSTART:20191015T183000Z
DTEND:20191015T200000Z
X-MICROSOFT-CDO-ALLDAYEVENT:FALSE
SUMMARY:Scottsdale Networking Luncheon at Maggiano’s
DESCRIPTION:Network and Grow Your Business Over Lunch ...\n\nAt the Southwest Veterans Chamber of Commerce\, you gain access to an exceptionally rewarding community full of networking opportunities\, rich education\, and professional business collaboration.\n\n\n\nThis luncheon is NOT industry specific. This event is open to all SWVCC members   and to guests\, who are welcome to "check us out" before deciding to commit.
X-ALT-DESC;FMTTYPE=text/html:<span style="font-family:arial\,sans-serif\;"><span style="font-size:10.5pt\;"><span style="font-size:16px\;"><span style="font-family:arial\;"><strong>Network and Grow Your Business Over Lunch ...</strong></span></span><br />\n<span style="font-size:14px\;"><span style="font-family:arial\;"><span style="color:#000000\;">At the Southwest Veterans Chamber of Commerce\, you gain access to an exceptionally rewarding community full of networking opportunities\, rich education\, and professional business collaboration.<br />\n<br />\nThis luncheon is NOT industry specific. This event is open to all SWVCC members &ndash\; and to guests\, who are welcome to &quot\;check us out&quot\; before deciding to commit.</span></span></span></span></span>
LOCATION:Maggiano's Little Italy 16405 N Scottsdale Rd\, Scottsdale\, AZ 85254
UID:e.3360.158
SEQUENCE:3
DTSTAMP:20260421T125809Z
URL:https://business.swvcc.org/events/details/scottsdale-networking-luncheon-maggiano-s-10-15-2019-158
END:VEVENT

END:VCALENDAR
