BEGIN:VCALENDAR
VERSION:2.0
PRODID:-//ChamberMaster//Event Calendar 2.0//EN
METHOD:PUBLISH
X-PUBLISHED-TTL:P3D
REFRESH-INTERVAL:P3D
CALSCALE:GREGORIAN
BEGIN:VEVENT
DTSTART:20240725T170000Z
DTEND:20240725T180000Z
X-MICROSOFT-CDO-ALLDAYEVENT:FALSE
SUMMARY:Southwest Veterans - Giving Back Through Technology
DESCRIPTION:During this session\, Business Technology Consultants will showcase their comprehensive services\, including:\n\n	Customized Technology Procurement: Tailored solutions to meet the unique needs of your business.\n	Expert Consultation: Guidance from seasoned professionals to help you make informed decisions.\n	Seamless Integration: Ensuring new technologies align with your existing systems and processes.\n\nWhat sets Business Technology Consultants apart is their commitment to giving back. They pledge to donate 20% of their yearly ongoing profits to the Southwest Veterans Foundation\, supporting those who have served our country.\n\n\n\nDon't miss this opportunity to learn how you can optimize your business's technology infrastructure while contributing to a noble cause.\n\n\n\nFor more details about Business Technology Consultants\, visit www.biztechconsult.com.\n\n\n\nReserve your spot today and take the first step towards transforming your business and supporting veterans causes!\n\nRegister Here: https://www.crowdcast.io/c/swveterans-giving-back
X-ALT-DESC;FMTTYPE=text/html:<span style="font-size:18px\;"><span style="font-family:arial\;"><span style="color:black\;">During this session\, Business Technology Consultants will showcase their comprehensive services\, including:</span></span></span>\n<ul>\n	<li style="color:black\;"><span style="font-size:18px\;"><span style="font-family:arial\;"><strong>Customized Technology Procurement</strong>: Tailored solutions to meet the unique needs of your business.</span></span></li>\n	<li style="color:black\;"><span style="font-size:18px\;"><span style="font-family:arial\;"><strong>Expert Consultation</strong>: Guidance from seasoned professionals to help you make informed decisions.</span></span></li>\n	<li style="color:black\;"><span style="font-size:18px\;"><span style="font-family:arial\;"><strong>Seamless Integration</strong>: Ensuring new technologies align with your existing systems and processes.</span></span></li>\n</ul>\n<span style="font-size:18px\;"><span style="font-family:arial\;"><span style="color:black\;">What sets Business Technology Consultants apart is their commitment to giving back. They pledge to donate 20% of their yearly ongoing profits to the Southwest Veterans Foundation\, supporting those who have served our country.</span><br />\n<br />\n<span style="color:black\;">Don&rsquo\;t miss this opportunity to learn how you can optimize your business&rsquo\;s technology infrastructure while contributing to a noble cause.</span><br />\n<br />\n<span style="color:black\;">For more details about Business Technology Consultants\, visit <a href="http://www.biztechconsult.com" target="_new">www.biztechconsult.com</a>.</span><br />\n<br />\n<strong><span style="color:black\;">Reserve your spot today and take the first step towards transforming your business and supporting veterans causes!</span></strong><br />\n<strong><span style="color:black\;">Register Here: </span></strong><span style="color:black\;"><a href="https://www.crowdcast.io/c/swveterans-giving-back">https://www.crowdcast.io/c/swveterans-giving-back</a></span></span></span><br />\n&nbsp\;
LOCATION:
UID:e.3360.3088
SEQUENCE:3
DTSTAMP:20260421T090947Z
URL:https://business.swvcc.org/events/details/southwest-veterans-giving-back-through-technology-3088
END:VEVENT

END:VCALENDAR
