BEGIN:VCALENDAR
VERSION:2.0
PRODID:-//ChamberMaster//Event Calendar 2.0//EN
METHOD:PUBLISH
X-PUBLISHED-TTL:P3D
REFRESH-INTERVAL:P3D
CALSCALE:GREGORIAN
BEGIN:VEVENT
DTSTART:20241015T183000Z
DTEND:20241015T200000Z
X-MICROSOFT-CDO-ALLDAYEVENT:FALSE
SUMMARY:Surprise AZ Networking Luncheon
DESCRIPTION:Network and Grow Your Business Over Lunch\n\n \n\nAt the Southwest Veterans Chamber of Commerce\, you gain access to an exceptionally rewarding community full of networking opportunities\, rich education\, and professional business collaboration.\n\n\n\nThis luncheon is NOT industry specific. This event is open to all SWVCC members and to guests\, who are welcome to "check us out" before deciding to commit.\n\n\n\n4th Thursday SWVCC Luncheon\n\n              11:30    Check in/networking\n\n              12:00    Lunch/Program\n\n \n\nState 48 Brewery\n\n13823 W Bell Rd\n\nSurprise\, AZ 85374\n\n\n\n8 raffle tickets:  $5.00\n\n20 raffle tickets:  $10.00\n\n50 raffle tickets: $20.00\n\n\n\nSponsored by Billet Health
X-ALT-DESC;FMTTYPE=text/html:<div class="row gz-event-details-header" style="box-sizing: border-box\; clear: both\; margin-left: -15px\; margin-right: -15px\; display: flex\; flex-wrap: wrap\; align-items: center\; -webkit-box-align: center\; color: rgb(0\, 6\, 84)\; font-family: Arial\, Helvetica\, sans-serif\; font-size: 16px\; font-style: normal\; font-variant-ligatures: normal\; font-variant-caps: normal\; font-weight: 400\; letter-spacing: normal\; orphans: 2\; text-align: start\; text-indent: 0px\; text-transform: none\; widows: 2\; word-spacing: 0px\; -webkit-text-stroke-width: 0px\; white-space: normal\; background-color: rgb(255\, 255\, 255)\; text-decoration-thickness: initial\; text-decoration-style: initial\; text-decoration-color: initial\;">\n<div class="d-flex gz-details-head" style="box-sizing: border-box\; display: flex !important\; align-items: center\; -webkit-box-align: center\;"><span style="box-sizing: border-box\;"><span style="font-size:18px\;"><span style="box-sizing: border-box\;"><strong style="box-sizing: border-box\; font-weight: bolder\;">Network and Grow Your Business Over Lunch</strong></span></span></span><br style="box-sizing: border-box\;" />\n&nbsp\;</div>\n</div>\n<span style="font-size:18px\;"><span style="box-sizing: border-box\; font-style: normal\; font-variant-ligatures: normal\; font-variant-caps: normal\; font-weight: 400\; letter-spacing: normal\; text-align: start\; text-indent: 0px\; text-transform: none\; word-spacing: 0px\; -webkit-text-stroke-width: 0px\; white-space: normal\; background-color: rgb(255\, 255\, 255)\; text-decoration-thickness: initial\; text-decoration-style: initial\; text-decoration-color: initial\;"><span style="box-sizing: border-box\;">At the Southwest Veterans Chamber of Commerce\, you gain access to an exceptionally rewarding community full of networking opportunities\, rich education\, and professional business collaboration.<br style="box-sizing: border-box\;" />\n<br style="box-sizing: border-box\;" />\nThis luncheon is NOT industry specific. This event is open to all SWVCC members and to guests\, who are welcome to &quot\;check us out&quot\; before deciding to commit.</span></span><br style="box-sizing: border-box\; color: rgb(0\, 6\, 84)\; font-family: Arial\, Helvetica\, sans-serif\; font-size: 16px\; font-style: normal\; font-variant-ligatures: normal\; font-variant-caps: normal\; font-weight: 400\; letter-spacing: normal\; orphans: 2\; text-align: start\; text-indent: 0px\; text-transform: none\; widows: 2\; word-spacing: 0px\; -webkit-text-stroke-width: 0px\; white-space: normal\; background-color: rgb(255\, 255\, 255)\; text-decoration-thickness: initial\; text-decoration-style: initial\; text-decoration-color: initial\;" />\n<br style="box-sizing: border-box\; color: rgb(0\, 6\, 84)\; font-family: Arial\, Helvetica\, sans-serif\; font-size: 16px\; font-style: normal\; font-variant-ligatures: normal\; font-variant-caps: normal\; font-weight: 400\; letter-spacing: normal\; orphans: 2\; text-align: start\; text-indent: 0px\; text-transform: none\; widows: 2\; word-spacing: 0px\; -webkit-text-stroke-width: 0px\; white-space: normal\; background-color: rgb(255\, 255\, 255)\; text-decoration-thickness: initial\; text-decoration-style: initial\; text-decoration-color: initial\;" />\n4<sup>th</sup> Thursday SWVCC Luncheon<br />\n&nbsp\;&nbsp\;&nbsp\;&nbsp\;&nbsp\;&nbsp\;&nbsp\;&nbsp\;&nbsp\;&nbsp\;&nbsp\;&nbsp\;&nbsp\; 11:30&nbsp\;&nbsp\;&nbsp\; Check in/networking<br />\n&nbsp\;&nbsp\;&nbsp\;&nbsp\;&nbsp\;&nbsp\;&nbsp\;&nbsp\;&nbsp\;&nbsp\;&nbsp\;&nbsp\;&nbsp\; 12:00&nbsp\;&nbsp\;&nbsp\; Lunch/Program<br />\n&nbsp\;</span><br />\n<span style="font-family:arial\,sans-serif\;"><span style="font-size:13.5pt\;"><strong>State 48 Brewery</strong><br />\n13823 W Bell Rd<br />\nSurprise\, AZ 85374</span></span><br style="box-sizing: border-box\; color: rgb(0\, 6\, 84)\; font-family: Arial\, Helvetica\, sans-serif\; font-size: 16px\; font-style: normal\; font-variant-ligatures: normal\; font-variant-caps: normal\; font-weight: 400\; letter-spacing: normal\; orphans: 2\; text-align: start\; text-indent: 0px\; text-transform: none\; widows: 2\; word-spacing: 0px\; -webkit-text-stroke-width: 0px\; white-space: normal\; background-color: rgb(255\, 255\, 255)\; text-decoration-thickness: initial\; text-decoration-style: initial\; text-decoration-color: initial\;" />\n<br style="box-sizing: border-box\; color: rgb(0\, 6\, 84)\; font-family: Arial\, Helvetica\, sans-serif\; font-size: 16px\; font-style: normal\; font-variant-ligatures: normal\; font-variant-caps: normal\; font-weight: 400\; letter-spacing: normal\; orphans: 2\; text-align: start\; text-indent: 0px\; text-transform: none\; widows: 2\; word-spacing: 0px\; -webkit-text-stroke-width: 0px\; white-space: normal\; background-color: rgb(255\, 255\, 255)\; text-decoration-thickness: initial\; text-decoration-style: initial\; text-decoration-color: initial\;" />\n<span style="font-size:18px\;"><span style="box-sizing: border-box\; outline: 0px\; font-style: normal\; font-variant-ligatures: normal\; font-variant-caps: normal\; font-weight: 400\; letter-spacing: normal\; text-align: start\; text-indent: 0px\; text-transform: none\; word-spacing: 0px\; -webkit-text-stroke-width: 0px\; white-space: normal\; background-color: rgb(255\, 255\, 255)\; text-decoration-thickness: initial\; text-decoration-style: initial\; text-decoration-color: initial\;"><span style="box-sizing: border-box\; outline: 0px\;">8 raffle tickets:&nbsp\; $5.00<br style="box-sizing: border-box\;" />\n20 raffle tickets:&nbsp\; $10.00<br />\n50 raffle tickets: $20.00</span></span><br />\n<br />\nSponsored by Billet Health</span>
LOCATION:
UID:e.3360.3053
SEQUENCE:3
DTSTAMP:20260421T110835Z
URL:https://business.swvcc.org/events/details/surprise-az-networking-luncheon-10-24-2024-3053
END:VEVENT

END:VCALENDAR
