BEGIN:VCALENDAR
VERSION:2.0
PRODID:-//ChamberMaster//Event Calendar 2.0//EN
METHOD:PUBLISH
X-PUBLISHED-TTL:P3D
REFRESH-INTERVAL:P3D
CALSCALE:GREGORIAN
BEGIN:VEVENT
DTSTART:20251008T190000Z
DTEND:20251008T200000Z
X-MICROSOFT-CDO-ALLDAYEVENT:FALSE
SUMMARY:SWVCC Business Development Program
DESCRIPTION:Is Your Business Protected Against\n\nFraud and Cybersecurity Threats?\n \n\nLearn how to safeguard your business during an informative presentation by Chase Bank.\n\n\n\nDon't miss this opportunity to gain valuable insights and strategies to protect your company from fraud and cyberattacks!\n\n\nZoom ID#: 815 547 8945 Passcode: 247141
X-ALT-DESC;FMTTYPE=text/html:<div style="text-align: center\;"><strong><span style="font-size:24px\;"><span style="font-family:arial\;">Is Your Business Protected Against</span></span></strong></div>\n\n<div style="text-align: center\;"><strong><span style="font-size:24px\;"><span style="font-family:arial\;">Fraud and Cybersecurity Threats?</span></span></strong></div>\n<span style="font-size:18px\;"><span style="font-family:arial\;">&nbsp\;</span></span><br />\n<span style="color:#000000\;"><span style="font-size:16px\;"><span style="font-family:arial\;">Learn how to safeguard your business during an informative presentation by <strong data-end="403" data-start="389">Chase Bank</strong>.</span></span></span>\n\n<p data-end="406" data-start="314"><br />\n<span style="color:#000000\;"><span style="font-size:16px\;"><span style="font-family:arial\;">Don&rsquo\;t miss this opportunity to gain valuable insights and strategies to protect your company from fraud and cyberattacks!</span></span></span></p>\n<br />\n<span style="color:#000000\;"><span style="font-size:16px\;"><span style="font-family:arial\;">Zoom ID#: 815 547 8945 Passcode: 247141</span></span></span><br />\n&nbsp\;
LOCATION:
UID:e.3360.3224
SEQUENCE:3
DTSTAMP:20260421T190601Z
URL:https://business.swvcc.org/events/details/swvcc-business-development-program-3224
END:VEVENT

END:VCALENDAR
