BEGIN:VCALENDAR
VERSION:2.0
PRODID:-//ChamberMaster//Event Calendar 2.0//EN
METHOD:PUBLISH
X-PUBLISHED-TTL:P3D
REFRESH-INTERVAL:P3D
CALSCALE:GREGORIAN
BEGIN:VEVENT
DTSTART:20190628T000000Z
DTEND:20190628T020000Z
X-MICROSOFT-CDO-ALLDAYEVENT:FALSE
SUMMARY:Veterans In Business Mixer
DESCRIPTION:You are cordially invited to a\n\nVeterans In Business Mixer\n\nVeteran Owned Businesses &  Veterans in Business\n\n\n\nA FREE Event - Hosted by Southwest Veterans Chamber of Commerece
X-ALT-DESC;FMTTYPE=text/html:<span style="color:#000080\;"><span style="font-family:arial\;"><strong><span style="font-size:14px\;">You are cordially invited to a</span><br />\n<span style="font-size:20px\;">Veterans In Business Mixer</span><br />\nVeteran Owned Businesses &amp\;</strong>&nbsp\; <strong>Veterans in Business</strong></span></span><br />\n<br />\n<span style="font-size:16px\;"><span style="font-family:arial\;"><span style="color:#FF0000\;"><strong>A FREE Event - Hosted by Southwest Veterans Chamber of Commerece</strong></span></span></span>
LOCATION:The Haymaker Restaurant 1800 N Litchfield Rd Goodyear\, AZ
UID:e.3360.486
SEQUENCE:3
DTSTAMP:20260422T043224Z
URL:https://business.swvcc.org/events/details/veterans-in-business-mixer-486
END:VEVENT

END:VCALENDAR
