BEGIN:VCALENDAR
VERSION:2.0
PRODID:-//ChamberMaster//Event Calendar 2.0//EN
METHOD:PUBLISH
X-PUBLISHED-TTL:P3D
REFRESH-INTERVAL:P3D
CALSCALE:GREGORIAN
BEGIN:VEVENT
DTSTART:20191017T180000Z
DTEND:20191017T210000Z
X-MICROSOFT-CDO-ALLDAYEVENT:FALSE
SUMMARY:Wellness and Fun Fair
DESCRIPTION:Join us and over 40 vendors from health and wellness\, jewelry\, transition planning\, vacation and cruise planning and much more!  Enjoy live music\, barbecue lunch and giveaways!
X-ALT-DESC;FMTTYPE=text/html:Join us and over 40 vendors from health and wellness\, jewelry\, transition planning\, vacation and cruise planning and much more! &nbsp\;Enjoy live music\, barbecue lunch and giveaways!&nbsp\;
LOCATION:The Park at Surprise 14630 W Parkwood Drive Surprise\, AZ
UID:e.3360.859
SEQUENCE:3
DTSTAMP:20260421T125539Z
URL:https://business.swvcc.org/events/details/wellness-and-fun-fair-859
END:VEVENT

END:VCALENDAR
